BEGIN:VCALENDAR
VERSION:2.0
PRODID:-//Collège Saint Joseph de Savenay - ECPv5.9.1//NONSGML v1.0//EN
CALSCALE:GREGORIAN
METHOD:PUBLISH
X-WR-CALNAME:Collège Saint Joseph de Savenay
X-ORIGINAL-URL:https://www.es-jmm-savenay.fr/college-saint-joseph-savenay
X-WR-CALDESC:évènements pour Collège Saint Joseph de Savenay
BEGIN:VTIMEZONE
TZID:Europe/Paris
BEGIN:DAYLIGHT
TZOFFSETFROM:+0100
TZOFFSETTO:+0200
TZNAME:CEST
DTSTART:20230326T010000
END:DAYLIGHT
BEGIN:STANDARD
TZOFFSETFROM:+0200
TZOFFSETTO:+0100
TZNAME:CET
DTSTART:20231029T010000
END:STANDARD
END:VTIMEZONE
BEGIN:VEVENT
DTSTART;TZID=Europe/Paris:20230828T090000
DTEND;TZID=Europe/Paris:20230901T170000
DTSTAMP:20260424T151843
CREATED:20230825T075008Z
LAST-MODIFIED:20230825T075008Z
UID:2283-1693213200-1693587600@www.es-jmm-savenay.fr
SUMMARY:Affichage liste de classes
DESCRIPTION:A partir du lundi 28 Août (9h) les listes de classe seront consultables : accès par le portillon.\n\nIl sera possible de passer toute la semaine (sauf jeudi toute la matinée/ collège fermé pour réunion de pré rentrée). Les familles ayant commandé un carton fournitures pourront également les récupérer.\n\n 
URL:https://www.es-jmm-savenay.fr/college-saint-joseph-savenay/event/affichage-liste-de-classes/
ATTACH;FMTTYPE=image/svg+xml:https://www.es-jmm-savenay.fr/college-saint-joseph-savenay/wp-content/uploads/sites/3/2021/03/LOGO_COLLEGE_EC_SAVENAY.svg
END:VEVENT
END:VCALENDAR