BEGIN:VCALENDAR
VERSION:2.0
PRODID:-//Collège Saint Joseph de Savenay - ECPv5.9.1//NONSGML v1.0//EN
CALSCALE:GREGORIAN
METHOD:PUBLISH
X-WR-CALNAME:Collège Saint Joseph de Savenay
X-ORIGINAL-URL:https://www.es-jmm-savenay.fr/college-saint-joseph-savenay
X-WR-CALDESC:évènements pour Collège Saint Joseph de Savenay
BEGIN:VTIMEZONE
TZID:Europe/Paris
BEGIN:DAYLIGHT
TZOFFSETFROM:+0100
TZOFFSETTO:+0200
TZNAME:CEST
DTSTART:20220327T010000
END:DAYLIGHT
BEGIN:STANDARD
TZOFFSETFROM:+0200
TZOFFSETTO:+0100
TZNAME:CET
DTSTART:20221030T010000
END:STANDARD
END:VTIMEZONE
BEGIN:VEVENT
DTSTART;TZID=Europe/Paris:20220919T080000
DTEND;TZID=Europe/Paris:20220930T170000
DTSTAMP:20260424T193914
CREATED:20220914T100755Z
LAST-MODIFIED:20220914T100755Z
UID:1573-1663574400-1664557200@www.es-jmm-savenay.fr
SUMMARY:Bourse aux livres
DESCRIPTION:View Fullscreen
URL:https://www.es-jmm-savenay.fr/college-saint-joseph-savenay/event/bourse-aux-livres/
END:VEVENT
END:VCALENDAR