BEGIN:VCALENDAR
VERSION:2.0
PRODID:-//Collège Saint Joseph de Savenay - ECPv5.9.1//NONSGML v1.0//EN
CALSCALE:GREGORIAN
METHOD:PUBLISH
X-WR-CALNAME:Collège Saint Joseph de Savenay
X-ORIGINAL-URL:https://www.es-jmm-savenay.fr/college-saint-joseph-savenay
X-WR-CALDESC:évènements pour Collège Saint Joseph de Savenay
BEGIN:VTIMEZONE
TZID:Europe/Paris
BEGIN:DAYLIGHT
TZOFFSETFROM:+0100
TZOFFSETTO:+0200
TZNAME:CEST
DTSTART:20220327T010000
END:DAYLIGHT
BEGIN:STANDARD
TZOFFSETFROM:+0200
TZOFFSETTO:+0100
TZNAME:CET
DTSTART:20221030T010000
END:STANDARD
END:VTIMEZONE
BEGIN:VEVENT
DTSTART;TZID=Europe/Paris:20221108T183000
DTEND;TZID=Europe/Paris:20221108T200000
DTSTAMP:20260425T000203
CREATED:20221020T112556Z
LAST-MODIFIED:20221020T112556Z
UID:1681-1667932200-1667937600@www.es-jmm-savenay.fr
SUMMARY:Colosse aux pieds d'argile
DESCRIPTION:En lien avec la journée nationale de lutte contre le harcèlement à l’école\, positionnée le 18 novembre\, la communauté enseignante et éducative a voulu que tout le niveau 5ème puisse participer à une sensibilisation en collaboration avec l’association\, le colosse aux pieds d’argile.\n\nCette prévention s’inscrit dans le cadre d’une part de l’éducation à la sexualité du parcours santé et d’autre part de l’éducation aux médias et à l’information du parcours citoyen. Les thématiques aborderont les violences sexuelles\, numériques\, le harcèlement et la pédocriminalité.\n\nUne conférence est également ouverte aux adultes. Les personnels des établissements de l’ensemble scolaire sont invités et nous ouvrons aux parents la possibilité d’y assister.
URL:https://www.es-jmm-savenay.fr/college-saint-joseph-savenay/event/colosse-aux-pieds-dargile/
LOCATION:Lycée SFDA
ATTACH;FMTTYPE=application/pdf:https://www.es-jmm-savenay.fr/college-saint-joseph-savenay/wp-content/uploads/sites/3/2022/10/affiche-colosse-adultes.pdf
END:VEVENT
END:VCALENDAR