BEGIN:VCALENDAR
VERSION:2.0
PRODID:-//Collège Saint Joseph de Savenay - ECPv5.9.1//NONSGML v1.0//EN
CALSCALE:GREGORIAN
METHOD:PUBLISH
X-WR-CALNAME:Collège Saint Joseph de Savenay
X-ORIGINAL-URL:https://www.es-jmm-savenay.fr/college-saint-joseph-savenay
X-WR-CALDESC:évènements pour Collège Saint Joseph de Savenay
BEGIN:VTIMEZONE
TZID:Europe/Paris
BEGIN:DAYLIGHT
TZOFFSETFROM:+0100
TZOFFSETTO:+0200
TZNAME:CEST
DTSTART:20230326T010000
END:DAYLIGHT
BEGIN:STANDARD
TZOFFSETFROM:+0200
TZOFFSETTO:+0100
TZNAME:CET
DTSTART:20231029T010000
END:STANDARD
END:VTIMEZONE
BEGIN:VEVENT
DTSTART;TZID=Europe/Paris:20230320T200000
DTEND;TZID=Europe/Paris:20230320T213000
DTSTAMP:20260424T152521
CREATED:20230307T082401Z
LAST-MODIFIED:20230307T082401Z
UID:2094-1679342400-1679347800@www.es-jmm-savenay.fr
SUMMARY:Conférence "Être parent au 21e siècle"
DESCRIPTION:
URL:https://www.es-jmm-savenay.fr/college-saint-joseph-savenay/event/conference-etre-parent-au-21e-siecle/
LOCATION:Collège St Joseph
ATTACH;FMTTYPE=application/pdf:https://www.es-jmm-savenay.fr/college-saint-joseph-savenay/wp-content/uploads/sites/3/2023/03/conf-20-mars.pdf
END:VEVENT
END:VCALENDAR