BEGIN:VCALENDAR
VERSION:2.0
PRODID:-//Collège Saint Joseph de Savenay - ECPv5.9.1//NONSGML v1.0//EN
CALSCALE:GREGORIAN
METHOD:PUBLISH
X-WR-CALNAME:Collège Saint Joseph de Savenay
X-ORIGINAL-URL:https://www.es-jmm-savenay.fr/college-saint-joseph-savenay
X-WR-CALDESC:évènements pour Collège Saint Joseph de Savenay
BEGIN:VTIMEZONE
TZID:Europe/Paris
BEGIN:DAYLIGHT
TZOFFSETFROM:+0100
TZOFFSETTO:+0200
TZNAME:CEST
DTSTART:20230326T010000
END:DAYLIGHT
BEGIN:STANDARD
TZOFFSETFROM:+0200
TZOFFSETTO:+0100
TZNAME:CET
DTSTART:20231029T010000
END:STANDARD
END:VTIMEZONE
BEGIN:VEVENT
DTSTART;TZID=Europe/Paris:20230323T190000
DTEND;TZID=Europe/Paris:20230323T201500
DTSTAMP:20260424T165317
CREATED:20230307T083105Z
LAST-MODIFIED:20230307T083105Z
UID:2097-1679598000-1679602500@www.es-jmm-savenay.fr
SUMMARY:Conférence "Internet et ses dangers"
DESCRIPTION:La gendarmerie nationale dispose d’une cellule de prévention appelée Maison de Protection des Familles\, celle-ci intervient entre autres dans les établissements scolaires.\n\nDes gendarmes viendront au collège dans le cadre de la M.P.F. pour un temps de présentation et d’échange avec les élèves du niveau 6ème \, le thème sera : « INTERNET ET SES DANGERS ».\n\nUne conférence est proposée pour les parents également.
URL:https://www.es-jmm-savenay.fr/college-saint-joseph-savenay/event/conference-internet-et-ses-dangers/
LOCATION:Collège St Joseph
END:VEVENT
END:VCALENDAR