BEGIN:VCALENDAR
VERSION:2.0
PRODID:-//Collège Saint Joseph de Savenay - ECPv5.9.1//NONSGML v1.0//EN
CALSCALE:GREGORIAN
METHOD:PUBLISH
X-WR-CALNAME:Collège Saint Joseph de Savenay
X-ORIGINAL-URL:https://www.es-jmm-savenay.fr/college-saint-joseph-savenay
X-WR-CALDESC:évènements pour Collège Saint Joseph de Savenay
BEGIN:VTIMEZONE
TZID:Europe/Paris
BEGIN:DAYLIGHT
TZOFFSETFROM:+0100
TZOFFSETTO:+0200
TZNAME:CEST
DTSTART:20210328T010000
END:DAYLIGHT
BEGIN:STANDARD
TZOFFSETFROM:+0200
TZOFFSETTO:+0100
TZNAME:CET
DTSTART:20211031T010000
END:STANDARD
END:VTIMEZONE
BEGIN:VEVENT
DTSTART;TZID=Europe/Paris:20211129T171000
DTEND;TZID=Europe/Paris:20211129T195000
DTSTAMP:20260424T235859
CREATED:20211129T145901Z
LAST-MODIFIED:20211129T145901Z
UID:916-1638205800-1638215400@www.es-jmm-savenay.fr
SUMMARY:Conseil de classe
DESCRIPTION:Du 29 novembre au 14 décembre\, au collège St Joseph
URL:https://www.es-jmm-savenay.fr/college-saint-joseph-savenay/event/conseil-de-classe/
ATTACH;FMTTYPE=image/png:https://www.es-jmm-savenay.fr/college-saint-joseph-savenay/wp-content/uploads/sites/3/2021/11/conseil-de-classe-image.png
END:VEVENT
END:VCALENDAR