BEGIN:VCALENDAR
VERSION:2.0
PRODID:-//Collège Saint Joseph de Savenay - ECPv5.9.1//NONSGML v1.0//EN
CALSCALE:GREGORIAN
METHOD:PUBLISH
X-WR-CALNAME:Collège Saint Joseph de Savenay
X-ORIGINAL-URL:https://www.es-jmm-savenay.fr/college-saint-joseph-savenay
X-WR-CALDESC:évènements pour Collège Saint Joseph de Savenay
BEGIN:VTIMEZONE
TZID:Europe/Paris
BEGIN:DAYLIGHT
TZOFFSETFROM:+0100
TZOFFSETTO:+0200
TZNAME:CEST
DTSTART:20210328T010000
END:DAYLIGHT
BEGIN:STANDARD
TZOFFSETFROM:+0200
TZOFFSETTO:+0100
TZNAME:CET
DTSTART:20211031T010000
END:STANDARD
END:VTIMEZONE
BEGIN:VEVENT
DTSTART;TZID=Europe/Paris:20211207T135000
DTEND;TZID=Europe/Paris:20211207T164500
DTSTAMP:20260425T012952
CREATED:20211129T150501Z
LAST-MODIFIED:20211129T150501Z
UID:920-1638885000-1638895500@www.es-jmm-savenay.fr
SUMMARY:Contrôle commun 3ème
DESCRIPTION:Les élèves de 3ème se préparent au DNB : entrainement le mardi 7 décembre en HG EMC et Français
URL:https://www.es-jmm-savenay.fr/college-saint-joseph-savenay/event/controle-commun-3eme/
ATTACH;FMTTYPE=image/jpeg:https://www.es-jmm-savenay.fr/college-saint-joseph-savenay/wp-content/uploads/sites/3/2021/11/evaluation.jpg
END:VEVENT
END:VCALENDAR