BEGIN:VCALENDAR
VERSION:2.0
PRODID:-//Collège Saint Joseph de Savenay - ECPv5.9.1//NONSGML v1.0//EN
CALSCALE:GREGORIAN
METHOD:PUBLISH
X-WR-CALNAME:Collège Saint Joseph de Savenay
X-ORIGINAL-URL:https://www.es-jmm-savenay.fr/college-saint-joseph-savenay
X-WR-CALDESC:évènements pour Collège Saint Joseph de Savenay
BEGIN:VTIMEZONE
TZID:Europe/Paris
BEGIN:DAYLIGHT
TZOFFSETFROM:+0100
TZOFFSETTO:+0200
TZNAME:CEST
DTSTART:20220327T010000
END:DAYLIGHT
BEGIN:STANDARD
TZOFFSETFROM:+0200
TZOFFSETTO:+0100
TZNAME:CET
DTSTART:20221030T010000
END:STANDARD
BEGIN:DAYLIGHT
TZOFFSETFROM:+0100
TZOFFSETTO:+0200
TZNAME:CEST
DTSTART:20230326T010000
END:DAYLIGHT
BEGIN:STANDARD
TZOFFSETFROM:+0200
TZOFFSETTO:+0100
TZNAME:CET
DTSTART:20231029T010000
END:STANDARD
END:VTIMEZONE
BEGIN:VEVENT
DTSTART;TZID=Europe/Paris:20221114T170000
DTEND;TZID=Europe/Paris:20230112T180000
DTSTAMP:20260424T222245
CREATED:20221108T154539Z
LAST-MODIFIED:20221108T154539Z
UID:1726-1668445200-1673546400@www.es-jmm-savenay.fr
SUMMARY:Devoirs faits
DESCRIPTION:La première période du dispositif débute le lundi 14 nov. 2022\n\nUn affichage est organisé jeudi 10 novembre à la vie scolaire pour consulter les candidatures validées.
URL:https://www.es-jmm-savenay.fr/college-saint-joseph-savenay/event/devoirs-faits/
LOCATION:Collège St Joseph
ATTACH;FMTTYPE=image/jpeg:https://www.es-jmm-savenay.fr/college-saint-joseph-savenay/wp-content/uploads/sites/3/2022/11/devoir-fait.jpg
END:VEVENT
END:VCALENDAR