BEGIN:VCALENDAR
VERSION:2.0
PRODID:-//Collège Saint Joseph de Savenay - ECPv5.9.1//NONSGML v1.0//EN
CALSCALE:GREGORIAN
METHOD:PUBLISH
X-WR-CALNAME:Collège Saint Joseph de Savenay
X-ORIGINAL-URL:https://www.es-jmm-savenay.fr/college-saint-joseph-savenay
X-WR-CALDESC:évènements pour Collège Saint Joseph de Savenay
BEGIN:VTIMEZONE
TZID:Europe/Paris
BEGIN:DAYLIGHT
TZOFFSETFROM:+0100
TZOFFSETTO:+0200
TZNAME:CEST
DTSTART:20220327T010000
END:DAYLIGHT
BEGIN:STANDARD
TZOFFSETFROM:+0200
TZOFFSETTO:+0100
TZNAME:CET
DTSTART:20221030T010000
END:STANDARD
END:VTIMEZONE
BEGIN:VEVENT
DTSTART;TZID=Europe/Paris:20221003T080000
DTEND;TZID=Europe/Paris:20221007T170000
DTSTAMP:20260424T193331
CREATED:20221004T153106Z
LAST-MODIFIED:20221004T153106Z
UID:1656-1664784000-1665162000@www.es-jmm-savenay.fr
SUMMARY:Elections des délégués de classe
DESCRIPTION:La semaine 40 sera consacrée aux élections des délégués de classes. A l’issue de ce premier temps fort citoyen\, deux sessions de formations seront proposées aux nouveaux élus les 12 et 19 octobre prochain.
URL:https://www.es-jmm-savenay.fr/college-saint-joseph-savenay/event/elections-des-delegues-de-classe/
ATTACH;FMTTYPE=image/jpeg:https://www.es-jmm-savenay.fr/college-saint-joseph-savenay/wp-content/uploads/sites/3/2022/10/election-delegue.jpg
END:VEVENT
END:VCALENDAR