BEGIN:VCALENDAR
VERSION:2.0
PRODID:-//Collège Saint Joseph de Savenay - ECPv5.9.1//NONSGML v1.0//EN
CALSCALE:GREGORIAN
METHOD:PUBLISH
X-WR-CALNAME:Collège Saint Joseph de Savenay
X-ORIGINAL-URL:https://www.es-jmm-savenay.fr/college-saint-joseph-savenay
X-WR-CALDESC:évènements pour Collège Saint Joseph de Savenay
BEGIN:VTIMEZONE
TZID:Europe/Paris
BEGIN:DAYLIGHT
TZOFFSETFROM:+0100
TZOFFSETTO:+0200
TZNAME:CEST
DTSTART:20230326T010000
END:DAYLIGHT
BEGIN:STANDARD
TZOFFSETFROM:+0200
TZOFFSETTO:+0100
TZNAME:CET
DTSTART:20231029T010000
END:STANDARD
END:VTIMEZONE
BEGIN:VEVENT
DTSTART;TZID=Europe/Paris:20230627T081500
DTEND;TZID=Europe/Paris:20230627T150000
DTSTAMP:20260424T135643
CREATED:20230328T074054Z
LAST-MODIFIED:20230509T144628Z
UID:2136-1687853700-1687878000@www.es-jmm-savenay.fr
SUMMARY:Epreuves écrites DNB
DESCRIPTION:HG EMC le matin\n\nSciences (SVT et Sciences Physiques) l’après-midi
URL:https://www.es-jmm-savenay.fr/college-saint-joseph-savenay/event/epreuves-ecrites-dnb-2/
LOCATION:Collège St Joseph
ATTACH;FMTTYPE=image/png:https://www.es-jmm-savenay.fr/college-saint-joseph-savenay/wp-content/uploads/sites/3/2022/03/DNB_logo.png
END:VEVENT
END:VCALENDAR