BEGIN:VCALENDAR
VERSION:2.0
PRODID:-//Collège Saint Joseph de Savenay - ECPv5.9.1//NONSGML v1.0//EN
CALSCALE:GREGORIAN
METHOD:PUBLISH
X-WR-CALNAME:Collège Saint Joseph de Savenay
X-ORIGINAL-URL:https://www.es-jmm-savenay.fr/college-saint-joseph-savenay
X-WR-CALDESC:évènements pour Collège Saint Joseph de Savenay
BEGIN:VTIMEZONE
TZID:Europe/Paris
BEGIN:DAYLIGHT
TZOFFSETFROM:+0100
TZOFFSETTO:+0200
TZNAME:CEST
DTSTART:20230326T010000
END:DAYLIGHT
BEGIN:STANDARD
TZOFFSETFROM:+0200
TZOFFSETTO:+0100
TZNAME:CET
DTSTART:20231029T010000
END:STANDARD
END:VTIMEZONE
BEGIN:VEVENT
DTSTART;VALUE=DATE:20230303
DTEND;VALUE=DATE:20230304
DTSTAMP:20260424T181409
CREATED:20230127T124712Z
LAST-MODIFIED:20230127T124712Z
UID:1987-1677801600-1677887999@www.es-jmm-savenay.fr
SUMMARY:Fin du second trimestre
DESCRIPTION:
URL:https://www.es-jmm-savenay.fr/college-saint-joseph-savenay/event/fin-du-second-trimestre/
END:VEVENT
END:VCALENDAR