BEGIN:VCALENDAR
VERSION:2.0
PRODID:-//Collège Saint Joseph de Savenay - ECPv5.9.1//NONSGML v1.0//EN
CALSCALE:GREGORIAN
METHOD:PUBLISH
X-WR-CALNAME:Collège Saint Joseph de Savenay
X-ORIGINAL-URL:https://www.es-jmm-savenay.fr/college-saint-joseph-savenay
X-WR-CALDESC:évènements pour Collège Saint Joseph de Savenay
BEGIN:VTIMEZONE
TZID:Europe/Paris
BEGIN:DAYLIGHT
TZOFFSETFROM:+0100
TZOFFSETTO:+0200
TZNAME:CEST
DTSTART:20250330T010000
END:DAYLIGHT
BEGIN:STANDARD
TZOFFSETFROM:+0200
TZOFFSETTO:+0100
TZNAME:CET
DTSTART:20251026T010000
END:STANDARD
END:VTIMEZONE
BEGIN:VEVENT
DTSTART;TZID=Europe/Paris:20251201T130000
DTEND;TZID=Europe/Paris:20251205T140000
DTSTAMP:20260424T110539
CREATED:20251125T125539Z
LAST-MODIFIED:20251125T125539Z
UID:3365-1764594000-1764943200@www.es-jmm-savenay.fr
SUMMARY:Forum des métiers
DESCRIPTION:Durant la semaine du 1er au 5 Décembre\, les élèves de 3ème ainsi que la 4D auront la chance de pouvoir assister au forum des métiers en salle polyvalente tous les midis. Des parents volontaires viendront  présenter leurs professions afin de guider les jeunes dans leur choix d’avenir…
URL:https://www.es-jmm-savenay.fr/college-saint-joseph-savenay/event/forum-des-metiers-2/
LOCATION:Collège St Joseph
ATTACH;FMTTYPE=image/png:https://www.es-jmm-savenay.fr/college-saint-joseph-savenay/wp-content/uploads/sites/3/2025/11/Forum-des-metiers.png
END:VEVENT
END:VCALENDAR