BEGIN:VCALENDAR
VERSION:2.0
PRODID:-//Collège Saint Joseph de Savenay - ECPv5.9.1//NONSGML v1.0//EN
CALSCALE:GREGORIAN
METHOD:PUBLISH
X-WR-CALNAME:Collège Saint Joseph de Savenay
X-ORIGINAL-URL:https://www.es-jmm-savenay.fr/college-saint-joseph-savenay
X-WR-CALDESC:évènements pour Collège Saint Joseph de Savenay
BEGIN:VTIMEZONE
TZID:Europe/Paris
BEGIN:DAYLIGHT
TZOFFSETFROM:+0100
TZOFFSETTO:+0200
TZNAME:CEST
DTSTART:20240331T010000
END:DAYLIGHT
BEGIN:STANDARD
TZOFFSETFROM:+0200
TZOFFSETTO:+0100
TZNAME:CET
DTSTART:20241027T010000
END:STANDARD
END:VTIMEZONE
BEGIN:VEVENT
DTSTART;TZID=Europe/Paris:20241009T084500
DTEND;TZID=Europe/Paris:20241009T120000
DTSTAMP:20260424T110636
CREATED:20240925T084802Z
LAST-MODIFIED:20240925T084808Z
UID:2803-1728463500-1728475200@www.es-jmm-savenay.fr
SUMMARY:Matinée pédagogique
DESCRIPTION:Formation numérique des adultes / pas de cours pour les élèves
URL:https://www.es-jmm-savenay.fr/college-saint-joseph-savenay/event/matinee-pedagogique-2/
ATTACH;FMTTYPE=image/jpeg:https://www.es-jmm-savenay.fr/college-saint-joseph-savenay/wp-content/uploads/sites/3/2023/03/journee-pedago.jpg
END:VEVENT
END:VCALENDAR