BEGIN:VCALENDAR
VERSION:2.0
PRODID:-//Collège Saint Joseph de Savenay - ECPv5.9.1//NONSGML v1.0//EN
CALSCALE:GREGORIAN
METHOD:PUBLISH
X-WR-CALNAME:Collège Saint Joseph de Savenay
X-ORIGINAL-URL:https://www.es-jmm-savenay.fr/college-saint-joseph-savenay
X-WR-CALDESC:évènements pour Collège Saint Joseph de Savenay
BEGIN:VTIMEZONE
TZID:Europe/Paris
BEGIN:DAYLIGHT
TZOFFSETFROM:+0100
TZOFFSETTO:+0200
TZNAME:CEST
DTSTART:20230326T010000
END:DAYLIGHT
BEGIN:STANDARD
TZOFFSETFROM:+0200
TZOFFSETTO:+0100
TZNAME:CET
DTSTART:20231029T010000
END:STANDARD
END:VTIMEZONE
BEGIN:VEVENT
DTSTART;TZID=Europe/Paris:20230121T093000
DTEND;TZID=Europe/Paris:20230121T120000
DTSTAMP:20260424T194828
CREATED:20220104T140348Z
LAST-MODIFIED:20221213T140553Z
UID:1854-1674293400-1674302400@www.es-jmm-savenay.fr
SUMMARY:Portes ouvertes
DESCRIPTION:
URL:https://www.es-jmm-savenay.fr/college-saint-joseph-savenay/event/portes-ouvertes/
LOCATION:Collège St Joseph
ATTACH;FMTTYPE=application/pdf:https://www.es-jmm-savenay.fr/college-saint-joseph-savenay/wp-content/uploads/sites/3/2022/12/portes-ouvertes-2023.pdf
END:VEVENT
END:VCALENDAR