BEGIN:VCALENDAR
VERSION:2.0
PRODID:-//Collège Saint Joseph de Savenay - ECPv5.9.1//NONSGML v1.0//EN
CALSCALE:GREGORIAN
METHOD:PUBLISH
X-WR-CALNAME:Collège Saint Joseph de Savenay
X-ORIGINAL-URL:https://www.es-jmm-savenay.fr/college-saint-joseph-savenay
X-WR-CALDESC:évènements pour Collège Saint Joseph de Savenay
BEGIN:VTIMEZONE
TZID:Europe/Paris
BEGIN:DAYLIGHT
TZOFFSETFROM:+0100
TZOFFSETTO:+0200
TZNAME:CEST
DTSTART:20230326T010000
END:DAYLIGHT
BEGIN:STANDARD
TZOFFSETFROM:+0200
TZOFFSETTO:+0100
TZNAME:CET
DTSTART:20231029T010000
END:STANDARD
END:VTIMEZONE
BEGIN:VEVENT
DTSTART;TZID=Europe/Paris:20230302T180000
DTEND;TZID=Europe/Paris:20230302T190000
DTSTAMP:20260424T210524
CREATED:20230127T124417Z
LAST-MODIFIED:20230127T124417Z
UID:1983-1677780000-1677783600@www.es-jmm-savenay.fr
SUMMARY:Présentation 4ème Rebond
DESCRIPTION:
URL:https://www.es-jmm-savenay.fr/college-saint-joseph-savenay/event/presentation-4eme-rebond/
LOCATION:Collège St Joseph
ATTACH;FMTTYPE=image/svg+xml:https://www.es-jmm-savenay.fr/college-saint-joseph-savenay/wp-content/uploads/sites/3/2021/11/LOGO_STJO.svg
END:VEVENT
END:VCALENDAR