BEGIN:VCALENDAR
VERSION:2.0
PRODID:-//Collège Saint Joseph de Savenay - ECPv5.9.1//NONSGML v1.0//EN
CALSCALE:GREGORIAN
METHOD:PUBLISH
X-WR-CALNAME:Collège Saint Joseph de Savenay
X-ORIGINAL-URL:https://www.es-jmm-savenay.fr/college-saint-joseph-savenay
X-WR-CALDESC:évènements pour Collège Saint Joseph de Savenay
BEGIN:VTIMEZONE
TZID:Europe/Paris
BEGIN:DAYLIGHT
TZOFFSETFROM:+0100
TZOFFSETTO:+0200
TZNAME:CEST
DTSTART:20230326T010000
END:DAYLIGHT
BEGIN:STANDARD
TZOFFSETFROM:+0200
TZOFFSETTO:+0100
TZNAME:CET
DTSTART:20231029T010000
END:STANDARD
END:VTIMEZONE
BEGIN:VEVENT
DTSTART;TZID=Europe/Paris:20230124T201500
DTEND;TZID=Europe/Paris:20230124T215500
DTSTAMP:20260424T210254
CREATED:20230119T161105Z
LAST-MODIFIED:20230123T144227Z
UID:1939-1674591300-1674597300@www.es-jmm-savenay.fr
SUMMARY:Présentation de lycées professionnels
DESCRIPTION:View FullscreenDes personnels de direction de lycée professionnel seront présents pour présenter leur établissement et répondre aux familles.\n\nUne circulaire et enquête précisaient les lycées en question.
URL:https://www.es-jmm-savenay.fr/college-saint-joseph-savenay/event/presentation-de-lycees-professionnels/
LOCATION:Collège St Joseph
ATTACH;FMTTYPE=image/png:https://www.es-jmm-savenay.fr/college-saint-joseph-savenay/wp-content/uploads/sites/3/2023/01/lp.png
END:VEVENT
END:VCALENDAR