BEGIN:VCALENDAR
VERSION:2.0
PRODID:-//Collège Saint Joseph de Savenay - ECPv5.9.1//NONSGML v1.0//EN
CALSCALE:GREGORIAN
METHOD:PUBLISH
X-WR-CALNAME:Collège Saint Joseph de Savenay
X-ORIGINAL-URL:https://www.es-jmm-savenay.fr/college-saint-joseph-savenay
X-WR-CALDESC:évènements pour Collège Saint Joseph de Savenay
BEGIN:VTIMEZONE
TZID:Europe/Paris
BEGIN:DAYLIGHT
TZOFFSETFROM:+0100
TZOFFSETTO:+0200
TZNAME:CEST
DTSTART:20220327T010000
END:DAYLIGHT
BEGIN:STANDARD
TZOFFSETFROM:+0200
TZOFFSETTO:+0100
TZNAME:CET
DTSTART:20221030T010000
END:STANDARD
END:VTIMEZONE
BEGIN:VEVENT
DTSTART;TZID=Europe/Paris:20220512T190000
DTEND;TZID=Europe/Paris:20220512T203000
DTSTAMP:20260425T015522
CREATED:20220509T130042Z
LAST-MODIFIED:20220509T130042Z
UID:1419-1652382000-1652387400@www.es-jmm-savenay.fr
SUMMARY:Prévention Internet et ses dangers
DESCRIPTION:Intervention des gendarmes pour les parents\, en salle polyvalente.\n\nLes classes de 6ème seront sensibilisées lors d’une séance\, sur temps scolaire.\n\n \n\nView Fullscreen
URL:https://www.es-jmm-savenay.fr/college-saint-joseph-savenay/event/prevention-internet-et-ses-dangers/
LOCATION:Collège St Joseph
END:VEVENT
END:VCALENDAR