BEGIN:VCALENDAR
VERSION:2.0
PRODID:-//Collège Saint Joseph de Savenay - ECPv5.9.1//NONSGML v1.0//EN
CALSCALE:GREGORIAN
METHOD:PUBLISH
X-WR-CALNAME:Collège Saint Joseph de Savenay
X-ORIGINAL-URL:https://www.es-jmm-savenay.fr/college-saint-joseph-savenay
X-WR-CALDESC:évènements pour Collège Saint Joseph de Savenay
BEGIN:VTIMEZONE
TZID:Europe/Paris
BEGIN:DAYLIGHT
TZOFFSETFROM:+0100
TZOFFSETTO:+0200
TZNAME:CEST
DTSTART:20220327T010000
END:DAYLIGHT
BEGIN:STANDARD
TZOFFSETFROM:+0200
TZOFFSETTO:+0100
TZNAME:CET
DTSTART:20221030T010000
END:STANDARD
END:VTIMEZONE
BEGIN:VEVENT
DTSTART;TZID=Europe/Paris:20221021T180000
DTEND;TZID=Europe/Paris:20221021T190000
DTSTAMP:20260424T235817
CREATED:20221011T114205Z
LAST-MODIFIED:20221011T114250Z
UID:1674-1666375200-1666378800@www.es-jmm-savenay.fr
SUMMARY:Remise des DNB
DESCRIPTION:Les anciens élèves pourront retourner au collège afin de récupérer leur précieux diplôme.\n\nCe sera l’occasion pour les professeurs principaux de les revoir et de les féliciter.
URL:https://www.es-jmm-savenay.fr/college-saint-joseph-savenay/event/remise-des-dnb/
LOCATION:Collège St Joseph
ATTACH;FMTTYPE=image/png:https://www.es-jmm-savenay.fr/college-saint-joseph-savenay/wp-content/uploads/sites/3/2022/03/DNB_logo.png
END:VEVENT
END:VCALENDAR