BEGIN:VCALENDAR
VERSION:2.0
PRODID:-//Collège Saint Joseph de Savenay - ECPv5.9.1//NONSGML v1.0//EN
CALSCALE:GREGORIAN
METHOD:PUBLISH
X-WR-CALNAME:Collège Saint Joseph de Savenay
X-ORIGINAL-URL:https://www.es-jmm-savenay.fr/college-saint-joseph-savenay
X-WR-CALDESC:évènements pour Collège Saint Joseph de Savenay
BEGIN:VTIMEZONE
TZID:Europe/Paris
BEGIN:DAYLIGHT
TZOFFSETFROM:+0100
TZOFFSETTO:+0200
TZNAME:CEST
DTSTART:20230326T010000
END:DAYLIGHT
BEGIN:STANDARD
TZOFFSETFROM:+0200
TZOFFSETTO:+0100
TZNAME:CET
DTSTART:20231029T010000
END:STANDARD
END:VTIMEZONE
BEGIN:VEVENT
DTSTART;TZID=Europe/Paris:20230905T081500
DTEND;TZID=Europe/Paris:20230905T165500
DTSTAMP:20260424T181414
CREATED:20230825T073829Z
LAST-MODIFIED:20230825T073829Z
UID:2281-1693901700-1693932900@www.es-jmm-savenay.fr
SUMMARY:Rentrée 5/4/3
DESCRIPTION:Tous les élèves du collège St Joseph seront de retour cette journée.\n\nTemps avec le prof. principal le matin puis cours selon edt (venir avec bloc note simplement)
URL:https://www.es-jmm-savenay.fr/college-saint-joseph-savenay/event/rentree-5-4-3/
ATTACH;FMTTYPE=image/jpeg:https://www.es-jmm-savenay.fr/college-saint-joseph-savenay/wp-content/uploads/sites/3/2022/08/images-rentree.jpg
END:VEVENT
END:VCALENDAR