BEGIN:VCALENDAR
VERSION:2.0
PRODID:-//Collège Saint Joseph de Savenay - ECPv5.9.1//NONSGML v1.0//EN
CALSCALE:GREGORIAN
METHOD:PUBLISH
X-WR-CALNAME:Collège Saint Joseph de Savenay
X-ORIGINAL-URL:https://www.es-jmm-savenay.fr/college-saint-joseph-savenay
X-WR-CALDESC:évènements pour Collège Saint Joseph de Savenay
BEGIN:VTIMEZONE
TZID:Europe/Paris
BEGIN:DAYLIGHT
TZOFFSETFROM:+0100
TZOFFSETTO:+0200
TZNAME:CEST
DTSTART:20250330T010000
END:DAYLIGHT
BEGIN:STANDARD
TZOFFSETFROM:+0200
TZOFFSETTO:+0100
TZNAME:CET
DTSTART:20251026T010000
END:STANDARD
END:VTIMEZONE
BEGIN:VEVENT
DTSTART;VALUE=DATE:20250901
DTEND;VALUE=DATE:20250902
DTSTAMP:20260424T110422
CREATED:20250825T065750Z
LAST-MODIFIED:20250825T065750Z
UID:3201-1756684800-1756771199@www.es-jmm-savenay.fr
SUMMARY:Rentrée 6ème
DESCRIPTION:Lundi 1er septembre\, rentrée des élèves de 6ème.
URL:https://www.es-jmm-savenay.fr/college-saint-joseph-savenay/event/rentree-6eme/
ATTACH;FMTTYPE=image/jpeg:https://www.es-jmm-savenay.fr/college-saint-joseph-savenay/wp-content/uploads/sites/3/2022/08/images-rentree.jpg
END:VEVENT
END:VCALENDAR