BEGIN:VCALENDAR
VERSION:2.0
PRODID:-//Collège Saint Joseph de Savenay - ECPv5.9.1//NONSGML v1.0//EN
CALSCALE:GREGORIAN
METHOD:PUBLISH
X-WR-CALNAME:Collège Saint Joseph de Savenay
X-ORIGINAL-URL:https://www.es-jmm-savenay.fr/college-saint-joseph-savenay
X-WR-CALDESC:évènements pour Collège Saint Joseph de Savenay
BEGIN:VTIMEZONE
TZID:Europe/Paris
BEGIN:DAYLIGHT
TZOFFSETFROM:+0100
TZOFFSETTO:+0200
TZNAME:CEST
DTSTART:20220327T010000
END:DAYLIGHT
BEGIN:STANDARD
TZOFFSETFROM:+0200
TZOFFSETTO:+0100
TZNAME:CET
DTSTART:20221030T010000
END:STANDARD
END:VTIMEZONE
BEGIN:VEVENT
DTSTART;VALUE=DATE:20220901
DTEND;VALUE=DATE:20220902
DTSTAMP:20260425T000033
CREATED:20220817T090224Z
LAST-MODIFIED:20220817T090224Z
UID:1521-1661990400-1662076799@www.es-jmm-savenay.fr
SUMMARY:Rentrée des 6èmes
DESCRIPTION:Les vacances sont terminées… c’est le temps de la reprise et de la découverte du collège.
URL:https://www.es-jmm-savenay.fr/college-saint-joseph-savenay/event/rentree-des-6emes/
ATTACH;FMTTYPE=image/jpeg:https://www.es-jmm-savenay.fr/college-saint-joseph-savenay/wp-content/uploads/sites/3/2022/08/images-rentree.jpg
END:VEVENT
END:VCALENDAR