BEGIN:VCALENDAR
VERSION:2.0
PRODID:-//Collège Saint Joseph de Savenay - ECPv5.9.1//NONSGML v1.0//EN
CALSCALE:GREGORIAN
METHOD:PUBLISH
X-WR-CALNAME:Collège Saint Joseph de Savenay
X-ORIGINAL-URL:https://www.es-jmm-savenay.fr/college-saint-joseph-savenay
X-WR-CALDESC:évènements pour Collège Saint Joseph de Savenay
BEGIN:VTIMEZONE
TZID:Europe/Paris
BEGIN:DAYLIGHT
TZOFFSETFROM:+0100
TZOFFSETTO:+0200
TZNAME:CEST
DTSTART:20220327T010000
END:DAYLIGHT
BEGIN:STANDARD
TZOFFSETFROM:+0200
TZOFFSETTO:+0100
TZNAME:CET
DTSTART:20221030T010000
END:STANDARD
END:VTIMEZONE
BEGIN:VEVENT
DTSTART;VALUE=DATE:20220902
DTEND;VALUE=DATE:20220903
DTSTAMP:20260424T223501
CREATED:20220817T090326Z
LAST-MODIFIED:20220817T090347Z
UID:1524-1662076800-1662163199@www.es-jmm-savenay.fr
SUMMARY:Rentrée des élèves du cycle 4
DESCRIPTION:C’est reparti pour une nouvelle année.
URL:https://www.es-jmm-savenay.fr/college-saint-joseph-savenay/event/rentree-des-eleves-du-cycle-4/
ATTACH;FMTTYPE=image/jpeg:https://www.es-jmm-savenay.fr/college-saint-joseph-savenay/wp-content/uploads/sites/3/2022/08/images-rentree.jpg
END:VEVENT
END:VCALENDAR