BEGIN:VCALENDAR
VERSION:2.0
PRODID:-//Collège Saint Joseph de Savenay - ECPv5.9.1//NONSGML v1.0//EN
CALSCALE:GREGORIAN
METHOD:PUBLISH
X-WR-CALNAME:Collège Saint Joseph de Savenay
X-ORIGINAL-URL:https://www.es-jmm-savenay.fr/college-saint-joseph-savenay
X-WR-CALDESC:évènements pour Collège Saint Joseph de Savenay
BEGIN:VTIMEZONE
TZID:Europe/Paris
BEGIN:DAYLIGHT
TZOFFSETFROM:+0100
TZOFFSETTO:+0200
TZNAME:CEST
DTSTART:20210328T010000
END:DAYLIGHT
BEGIN:STANDARD
TZOFFSETFROM:+0200
TZOFFSETTO:+0100
TZNAME:CET
DTSTART:20211031T010000
END:STANDARD
END:VTIMEZONE
BEGIN:VEVENT
DTSTART;TZID=Europe/Paris:20211210T113000
DTEND;TZID=Europe/Paris:20211210T130000
DTSTAMP:20260425T043349
CREATED:20211129T151059Z
LAST-MODIFIED:20211129T151059Z
UID:925-1639135800-1639141200@www.es-jmm-savenay.fr
SUMMARY:Repas solidaire
DESCRIPTION:Les élèves sont invités à prendre un repas solidaire le V10 déc.
URL:https://www.es-jmm-savenay.fr/college-saint-joseph-savenay/event/repas-solidaire/
ATTACH;FMTTYPE=image/png:https://www.es-jmm-savenay.fr/college-saint-joseph-savenay/wp-content/uploads/sites/3/2021/11/logo_assific.png
END:VEVENT
END:VCALENDAR