BEGIN:VCALENDAR
VERSION:2.0
PRODID:-//Collège Saint Joseph de Savenay - ECPv5.9.1//NONSGML v1.0//EN
CALSCALE:GREGORIAN
METHOD:PUBLISH
X-WR-CALNAME:Collège Saint Joseph de Savenay
X-ORIGINAL-URL:https://www.es-jmm-savenay.fr/college-saint-joseph-savenay
X-WR-CALDESC:évènements pour Collège Saint Joseph de Savenay
BEGIN:VTIMEZONE
TZID:Europe/Paris
BEGIN:DAYLIGHT
TZOFFSETFROM:+0100
TZOFFSETTO:+0200
TZNAME:CEST
DTSTART:20220327T010000
END:DAYLIGHT
BEGIN:STANDARD
TZOFFSETFROM:+0200
TZOFFSETTO:+0100
TZNAME:CET
DTSTART:20221030T010000
END:STANDARD
END:VTIMEZONE
BEGIN:VEVENT
DTSTART;TZID=Europe/Paris:20220120T200000
DTEND;TZID=Europe/Paris:20220120T220000
DTSTAMP:20260425T060459
CREATED:20220118T122802Z
LAST-MODIFIED:20220118T123704Z
UID:1042-1642708800-1642716000@www.es-jmm-savenay.fr
SUMMARY:Report de la soirée de présentation des filières pro.
DESCRIPTION:Une date sera annoncée rapidement.\n\nL’objectif est de pouvoir proposer cette rencontre en mars.
URL:https://www.es-jmm-savenay.fr/college-saint-joseph-savenay/event/report-de-la-soiree-de-presentation-des-filieres-pro/
END:VEVENT
END:VCALENDAR