BEGIN:VCALENDAR
VERSION:2.0
PRODID:-//Collège Saint Joseph de Savenay - ECPv5.9.1//NONSGML v1.0//EN
CALSCALE:GREGORIAN
METHOD:PUBLISH
X-WR-CALNAME:Collège Saint Joseph de Savenay
X-ORIGINAL-URL:https://www.es-jmm-savenay.fr/college-saint-joseph-savenay
X-WR-CALDESC:évènements pour Collège Saint Joseph de Savenay
BEGIN:VTIMEZONE
TZID:Europe/Paris
BEGIN:DAYLIGHT
TZOFFSETFROM:+0100
TZOFFSETTO:+0200
TZNAME:CEST
DTSTART:20210328T010000
END:DAYLIGHT
BEGIN:STANDARD
TZOFFSETFROM:+0200
TZOFFSETTO:+0100
TZNAME:CET
DTSTART:20211031T010000
END:STANDARD
END:VTIMEZONE
BEGIN:VEVENT
DTSTART;TZID=Europe/Paris:20211109T170000
DTEND;TZID=Europe/Paris:20211125T210000
DTSTAMP:20260424T223532
CREATED:20211014T160608Z
LAST-MODIFIED:20211014T160615Z
UID:773-1636477200-1637874000@www.es-jmm-savenay.fr
SUMMARY:Réunions parents/professeurs
DESCRIPTION:Des temps de rencontre sont planifiés pour chaque classe entre le mardi 9 et le jeudi 25 novembre.
URL:https://www.es-jmm-savenay.fr/college-saint-joseph-savenay/event/reunions-parents-professeurs/
LOCATION:Collège St Joseph
ATTACH;FMTTYPE=application/pdf:https://www.es-jmm-savenay.fr/college-saint-joseph-savenay/wp-content/uploads/sites/3/2021/10/repartition-reunions.pdf
END:VEVENT
END:VCALENDAR