BEGIN:VCALENDAR
VERSION:2.0
PRODID:-//Collège Saint Joseph de Savenay - ECPv5.9.1//NONSGML v1.0//EN
CALSCALE:GREGORIAN
METHOD:PUBLISH
X-WR-CALNAME:Collège Saint Joseph de Savenay
X-ORIGINAL-URL:https://www.es-jmm-savenay.fr/college-saint-joseph-savenay
X-WR-CALDESC:évènements pour Collège Saint Joseph de Savenay
BEGIN:VTIMEZONE
TZID:Europe/Paris
BEGIN:DAYLIGHT
TZOFFSETFROM:+0100
TZOFFSETTO:+0200
TZNAME:CEST
DTSTART:20230326T010000
END:DAYLIGHT
BEGIN:STANDARD
TZOFFSETFROM:+0200
TZOFFSETTO:+0100
TZNAME:CET
DTSTART:20231029T010000
END:STANDARD
END:VTIMEZONE
BEGIN:VEVENT
DTSTART;TZID=Europe/Paris:20230327T080000
DTEND;TZID=Europe/Paris:20230331T170000
DTSTAMP:20260424T181300
CREATED:20230127T125103Z
LAST-MODIFIED:20230127T125103Z
UID:1991-1679904000-1680282000@www.es-jmm-savenay.fr
SUMMARY:Semaine PAE
DESCRIPTION:
URL:https://www.es-jmm-savenay.fr/college-saint-joseph-savenay/event/semaine-pae/
ATTACH;FMTTYPE=image/svg+xml:https://www.es-jmm-savenay.fr/college-saint-joseph-savenay/wp-content/uploads/sites/3/2021/03/LOGO_COLLEGE_EC_SAVENAY.svg
END:VEVENT
END:VCALENDAR